BEGIN:VCALENDAR
VERSION:2.0
PRODID:icalendar-ruby
CALSCALE:GREGORIAN
METHOD:PUBLISH
BEGIN:VEVENT
DTSTAMP:20260425T114040Z
UID:984-118724@nb.anglican.ca
DTSTART:20260530T130000Z
DTEND:20260530T173000Z
CLASS:PUBLIC
CREATED:20260415T113606
DESCRIPTION:Facilitator Angela King holds a MTS\, ARCT(Pedagogy)\, and is
  a dementia care and education specialist\, consultant and spiritual care 
 practitioner.\nFor information on the first dementia workshop\, held in Fe
 bruary\, click here. 
LAST-MODIFIED:20260415T113606
LOCATION:Trinity Hall\, Christ Church\, 30 Prince William St.\,  St. Stephe
 n
SUMMARY:A Spirit-Centered Approach to Dementia Care
URL;VALUE=URI:https://nb.anglican.ca/events/a-spirit-centered-approach-to-d
 ementia-care/2026-05-30
ATTACH;FILENAME=dementia workshop May St Stephen.png;FMTTYPE=image/png:http
 s://dq5pwpg1q8ru0.cloudfront.net/2026/04/15/14/35/13/134f2426-6e5b-44d4-9b
 9d-9c59a632165a/dementia%20workshop%20May%20St%20Stephen.png
END:VEVENT
END:VCALENDAR
