BEGIN:VCALENDAR
VERSION:2.0
PRODID:icalendar-ruby
CALSCALE:GREGORIAN
METHOD:PUBLISH
BEGIN:VEVENT
DTSTAMP:20260424T122622Z
UID:986-119459@nb.anglican.ca
DTSTART:20260423T170000Z
DTEND:20260423T190000Z
CLASS:PUBLIC
CREATED:20260418T184700
DESCRIPTION:Curious about Alongside Hope and how you can get involved?\nAlo
 ngside Hope relies on a cross-Canada network of dedicated volunteers who e
 ngage with individuals and parishes. With support from staff\, volunteers 
 keep the work of Alongside Hope partners in the hearts\, minds and prayers
  of Anglicans across the country.\nTheir work includes:\n\nRaising awarene
 ss on current partners and programs\, their challenges and successes\;\nKe
 eping parishes up-to-date on Alongside Hope’s humanitarian response work
 \;\nEngaging parishes through Alongside Hope’s educational activities an
 d fundraising campaigns\;\nIllustrating the connection between gifts made 
 to Alongside Hope and the impact on communities in Canada and around the w
 orld.\n\nThis webinar on Thursday\, April 23\, at 2 pm (ADT) is for anyon
 e who wants to learn about volunteer opportunities with Alongside Hope. Wh
 ether you’re already a committed volunteer or just want to explore more\
 , you are welcome to attend. Staff will provide an introduction to Alongsi
 de Hope’s work\, our volunteer network\, and the resources available to 
 volunteers and parishes. Learn how you can join this dynamic network of vo
 lunteers and make a world of difference.
LAST-MODIFIED:20260418T184700
LOCATION:Zoom
SUMMARY:Alongside Hope Volunteer Orientation
URL;VALUE=URI:https://nb.anglican.ca/events/alongside-hope-volunteer-orient
 ation/2026-04-23
ATTACH;FILENAME=alongside_hope_volunteer_orientation.jpg;FMTTYPE=image/jpeg
 :https://dq5pwpg1q8ru0.cloudfront.net/2026/04/18/21/47/00/144b29b5-bec0-44
 05-8264-90a761f28aa2/alongside_hope_volunteer_orientation.jpg
END:VEVENT
END:VCALENDAR
