BEGIN:VCALENDAR
VERSION:2.0
PRODID:icalendar-ruby
CALSCALE:GREGORIAN
METHOD:PUBLISH
BEGIN:VEVENT
DTSTAMP:20260425T000923Z
UID:966-120524@nb.anglican.ca
DTSTART;VALUE=DATE:20270504
DTEND;VALUE=DATE:20270521
CLASS:PUBLIC
CREATED:20260422T133859
DESCRIPTION:Check www.trinitytour.org for up to date details\nA. Primary Pi
 lgrimage — The Holy Land\nDates still to be finalized\nAn all-inclusive\
 , expertly guided pilgrimage to the most significant biblical sites — fr
 om Nazareth to Bethlehem\, Caesarea to Jerusalem\, Galilee to Jericho — 
 with rich opportunities for worship\, reflection\, and encounter with loca
 l Christians.\n\nOur pilgrimages include virtually everything except perso
 nal items\, beverages\, and airfare. All meals\, guides\, drivers\, entran
 ce fees\, and gratuities are included. \n\nOptional Extensions\nB. Jerusa
 lem-at-Leisure Extension \nRemain two additional days in Jerusalem at the
  Golden Walls Hotel. By then you will have enough familiarity with the Old
  City to explore comfortably on your own\, while also being welcome to acc
 ompany Bishop David and me as we revisit significant holy sites that canno
 t fit into the regular schedule.\n\nC. Seven Churches of Asia Extension (t
 entative)\nAn optional pre-pilgrimage journey through western Turkey visit
 ing the Seven Churches of Revelation and key early Christian sites\, befor
 e continuing on to Israel to join the main group.\n\nMore details at www.
 trinitytour.org.
LAST-MODIFIED:20260422T133859
LOCATION:
SUMMARY:Archbishop: Holy Land Pilgrimage
URL;VALUE=URI:https://nb.anglican.ca/events/archbishop-holy-land-pilgrimage
 /2027-05-04
ATTACH;FILENAME=tour_ad_graphic.png;FMTTYPE=image/png:https://dq5pwpg1q8ru0
 .cloudfront.net/2026/02/20/15/37/15/b5c879f1-8b9d-4815-9eff-d82c32926838/t
 our_ad_graphic.png
END:VEVENT
END:VCALENDAR
