BEGIN:VCALENDAR
VERSION:2.0
PRODID:icalendar-ruby
CALSCALE:GREGORIAN
METHOD:PUBLISH
BEGIN:VEVENT
DTSTAMP:20260425T114040Z
UID:985-120675@nb.anglican.ca
DTSTART:20260906T130000Z
DTEND:20260906T140000Z
CLASS:PUBLIC
CREATED:20260422T145311
DESCRIPTION:
LAST-MODIFIED:20260422T145311
LOCATION:8525 NB-107\, Glassville E7L 1A8
SUMMARY:Archbishop: Parish of Wicklow-Wilmot-Peel-Aberdeen
URL;VALUE=URI:https://nb.anglican.ca/events/archbishop-parish-of-wicklow-wi
 lmot-peel-aberdeen/2026-09-06
ATTACH;FILENAME=The Bishop - for web event listing.png;FMTTYPE=image/png:ht
 tps://dq5pwpg1q8ru0.cloudfront.net/2026/04/16/15/00/15/399e9656-b872-4b0a-
 a24f-b43fdaca65cb/The%20Bishop%20-%20for%20web%20event%20listing.png
END:VEVENT
END:VCALENDAR
