BEGIN:VCALENDAR
VERSION:2.0
PRODID:icalendar-ruby
CALSCALE:GREGORIAN
METHOD:PUBLISH
BEGIN:VEVENT
DTSTAMP:20260424T021932Z
UID:806-120671@nb.anglican.ca
DTSTART;VALUE=DATE:20260706
DTEND;VALUE=DATE:20260805
CLASS:PUBLIC
CREATED:20260422T143518
DESCRIPTION:
LAST-MODIFIED:20260422T143518
LOCATION:
SUMMARY:Archbishop: Vacation
URL;VALUE=URI:https://nb.anglican.ca/events/archbishop-vacation--806/2026-0
 7-06
ATTACH;FILENAME=TheBishop.png;FMTTYPE=image/png:https://dq5pwpg1q8ru0.cloud
 front.net/2024/03/11/18/16/17/f6e32487-f223-4501-a904-531a844b0dcb/TheBish
 op.png
END:VEVENT
END:VCALENDAR
