BEGIN:VCALENDAR
VERSION:2.0
PRODID:icalendar-ruby
CALSCALE:GREGORIAN
METHOD:PUBLISH
BEGIN:VEVENT
DTSTAMP:20260425T022358Z
UID:982-118725@nb.anglican.ca
DTSTART:20260507T170000Z
DTEND:20260509T180000Z
CLASS:PUBLIC
CREATED:20260415T114918
DESCRIPTION:Theme: The Grace of God\nGuest speaker: Jim Woodford\nOrganizin
 g chair: Gwen McConnell
LAST-MODIFIED:20260415T114918
LOCATION:Villa Madonna\, 115 Villa Madonna Rd\, Rothesay
SUMMARY:Clergy Spouses' Retreat - 2026
URL;VALUE=URI:https://nb.anglican.ca/events/clergy-spouses-retreat-2026/202
 6-05-07
ATTACH;FILENAME=clergy spouses retreat.png;FMTTYPE=image/png:https://dq5pwp
 g1q8ru0.cloudfront.net/2026/04/07/16/31/43/d1829a9b-48df-4414-b9ee-d11aece
 70088/clergy%20spouses%20retreat.png
ATTACH;FILENAME=Clergy Spouses Brochure 2026.pdf;FMTTYPE=application/pdf:ht
 tps://dq5pwpg1q8ru0.cloudfront.net/2026/04/15/14/49/18/0a034ac0-478f-4981-
 9a35-909e0b8b2332/Clergy%20Spouses%20Brochure%202026.pdf
END:VEVENT
END:VCALENDAR
