BEGIN:VCALENDAR
VERSION:2.0
PRODID:icalendar-ruby
CALSCALE:GREGORIAN
METHOD:PUBLISH
BEGIN:VEVENT
DTSTAMP:20260425T022357Z
UID:468-114536@nb.anglican.ca
DTSTART:20270318T140000Z
DTEND:20270318T160000Z
CLASS:PUBLIC
CREATED:20260327T155152
DESCRIPTION:This service provides an opportunity for ordained and all licen
 sed lay ministers (evangelists and layreaders) to reaffirm their commitmen
 t to their appointed ministries and to have oil blessed for use in the com
 ing year. \nEveryone is welcome to attend. \nA lunch will follow.  An RS
 VP form will be available prior to the event.\nRegarding the blessing of o
 il\nClergy are encouraged to bring oils for the bishop's blessing and plac
 e the filled stocks on the provided table before the service. Oil or Chris
 m is available from the Cathedral supply at any time throughout the year u
 pon request.\nFor those looking for material for the Reception of Oils to 
 use in your parish following the blessing\, this option from the Church of
  England's Common Worship\, adapted to the oils used\, is suggested.
LAST-MODIFIED:20260327T155152
LOCATION:Christ Church Cathedral\, Fredericton
SUMMARY:Renewal of Vows and Blessing of Oil
URL;VALUE=URI:https://nb.anglican.ca/events/renewal-of-vows-and-blessing-of
 -oil/2027-03-18
ATTACH;FILENAME=blessing_oil.jpg;FMTTYPE=image/jpeg:https://dq5pwpg1q8ru0.c
 loudfront.net/2021/04/06/07/16/22/c8976467-087a-45fb-aa6c-77d4acf7f950/ble
 ssing_oil.jpg
END:VEVENT
END:VCALENDAR
